BEGIN:VCALENDAR
VERSION:2.0
PRODID:Events Booking
BEGIN:VEVENT
UID:69e7442899218
SUMMARY:Lou is
DESCRIPTION:Μια συναυλία σαν προσευχή.
 
LOCATION:Φιλελλήνων 27\, Αθήνα 105 57\, Ελλάδα
DTSTART:20260430T173000Z
DTEND:20260429T210000Z
DTSTAMP:20260421T042038Z
ORGANIZER:MAILTO:doraq@brainfoodmedia.gr
GEO:37.972401;23.733601
X-APPLE-STRUCTURED-LOCATION;VALUE=URI;X-ADDRESS=Φιλελλήνων 27\, 
 Αθήνα 105 57\, Ελλάδα;X-APPLE-RADIUS=72;X-TITLE=Αγγλικα
 νική Εκκλησία Αγ. Παύλου:37.972401;23.733601
END:VEVENT
END:VCALENDAR