BEGIN:VCALENDAR
VERSION:2.0
PRODID:Events Booking
BEGIN:VEVENT
UID:69e9ebc89ea9f
SUMMARY:Locomondo
DESCRIPTION:Το καλοκαίρι αρχίζει με Locomondo!
 
LOCATION:Pireos 100\, Athina 118 54
DTSTART:20260624T190000Z
DTEND:20260623T210000Z
DTSTAMP:20260423T044023Z
ORGANIZER:MAILTO:doraq@brainfoodmedia.gr
GEO:37.978446;23.713615
X-APPLE-STRUCTURED-LOCATION;VALUE=URI;X-ADDRESS=Pireos 100\, Athina 118 54;
 X-APPLE-RADIUS=72;X-TITLE=Τεχνόπολη Δήμου Αθηναίων:3
 7.978446;23.713615
END:VEVENT
END:VCALENDAR