BEGIN:VCALENDAR
VERSION:2.0
PRODID:Events Booking
BEGIN:VEVENT
UID:69ecf31654be4
SUMMARY:Δημήτρης Μπάσης
DESCRIPTION:Ο Δημήτρης Μπάσης\, γνήσιος λαϊκός 
 τραγουδιστής\, από τους σημαντικότερους 
 της γενιάς του\, με πολλές επιτυχίες και 
 σπουδαίες συνεργασίες στην μέχρι τώρα π
 ορεία του\, ταξιδεύει αυτό το καλοκαίρι 
 σε Ελλάδα και Κύπρο.
 
LOCATION:Πλατεία Μιαούλη\, Ερμούπολη 841 00\, Ελλ
 άδα
DTSTART:20190824T150000Z
DTEND:20190824T175900Z
DTSTAMP:20231116T105416Z
ORGANIZER:MAILTO:doraq@brainfoodmedia.gr
GEO:37.444698;24.942801
X-APPLE-STRUCTURED-LOCATION;VALUE=URI;X-ADDRESS=Πλατεία Μιαούλ
 η\, Ερμούπολη 841 00\, Ελλάδα;X-APPLE-RADIUS=72;X-TITLE=Π
 λατεία Μιαούλη:37.444698;24.942801
END:VEVENT
END:VCALENDAR