BEGIN:VCALENDAR
VERSION:2.0
PRODID:Events Booking
BEGIN:VEVENT
UID:69e67dc2c9336
SUMMARY:Χατζηφραγκέτα
DESCRIPTION:Από Παρασκευή 7 Φεβρουαρίου και όλ
 ες τις Παρασκευές του Φεβρουαρίου.
LOCATION:Θαρύπου 35\, Αθήνα 117 43\, Ελλάδα
DTSTART:20250228T193000Z
DTEND:20250228T215500Z
DTSTAMP:20250130T160806Z
ORGANIZER:MAILTO:doraq@brainfoodmedia.gr
GEO:37.961899;23.726
X-APPLE-STRUCTURED-LOCATION;VALUE=URI;X-ADDRESS=Θαρύπου 35\, Αθή
 να 117 43\, Ελλάδα;X-APPLE-RADIUS=72;X-TITLE=Σταυρός Του
  Νότου / Club:37.961899;23.726
END:VEVENT
END:VCALENDAR