BEGIN:VCALENDAR
VERSION:2.0
PRODID:Events Booking
BEGIN:VEVENT
UID:69ecea15aac18
SUMMARY:Χατ Τρικ
DESCRIPTION:Κάτι λιγότερο από 20 χρόνια ζωής\, κ
 άτι παραπάνω από μια πανκ ροκ μπάντα.
LOCATION:Πειραιώς 105 & Βίτωνος\, Αθήνα 118 54
DTSTART:20241221T190000Z
DTEND:20241221T215500Z
DTSTAMP:20241106T163132Z
ORGANIZER:MAILTO:doraq@brainfoodmedia.gr
END:VEVENT
END:VCALENDAR