BEGIN:VCALENDAR
VERSION:2.0
PRODID:Events Booking
BEGIN:VEVENT
UID:69e5557ba8ca3
SUMMARY:Χαϊνηδες
DESCRIPTION:Οι Αλλαγές δεν ζυμώνονται στις αρέ
 νες. Η Τέχνη δεν είναι πυροτεχνήματα και 
 γηπεδικά συνθήματα. Ο Έρωτας και η Επανά
 σταση είναι προϊόντα συνομωσίας. Ανθίζο
 υν στην απρόσκοπτη επικοινωνία πρόσωπο 
 με πρόσωπο.
LOCATION:Ιάκχου 16\, Αθήνα 118 54\, Ελλάδα
DTSTART:20240112T193000Z
DTEND:20240112T215500Z
DTSTAMP:20231214T091542Z
ORGANIZER:MAILTO:doraq@brainfoodmedia.gr
GEO:37.978901;23.7127
X-APPLE-STRUCTURED-LOCATION;VALUE=URI;X-ADDRESS=Ιάκχου 16\, Αθήν
 α 118 54\, Ελλάδα;X-APPLE-RADIUS=72;X-TITLE=Θέατρο Ροές :
 37.978901;23.7127
END:VEVENT
END:VCALENDAR