BEGIN:VCALENDAR
VERSION:2.0
PRODID:Events Booking
BEGIN:VEVENT
UID:69e75c7e568ad
SUMMARY:Βασίλης Προδρόμου
DESCRIPTION:Τραγούδια&nbsp\;από τη δισκογραφία τ
 ου Βασίλη και υπέροχες δημιουργίες από ό
 λες τις εποχές του ελληνικού τραγουδιού.
 
 
LOCATION:Θαρύπου 35\, Αθήνα 117 43\, Ελλάδα
DTSTART:20260430T183000Z
DTEND:20260429T210000Z
DTSTAMP:20260421T034500Z
ORGANIZER:MAILTO:doraq@brainfoodmedia.gr
GEO:37.961899;23.726
X-APPLE-STRUCTURED-LOCATION;VALUE=URI;X-ADDRESS=Θαρύπου 35\, Αθή
 να 117 43\, Ελλάδα;X-APPLE-RADIUS=72;X-TITLE=Σταυρός Του
  Νότου / Club:37.961899;23.726
END:VEVENT
END:VCALENDAR