BEGIN:VCALENDAR
VERSION:2.0
PRODID:Events Booking
BEGIN:VEVENT
UID:69ea8a6346d2e
SUMMARY:The Undertones
DESCRIPTION:Οι Undertones\, ένα από τα πιο αγαπημένα 
 και επιτυχημένα punk συγκροτήματα από τη Β
 όρεια Ιρλανδία\, επιστρέφουν με μια εκτε
 ταμένη ευρωπαϊκή περιοδεία για την προώ
 θηση του τελευταίου τους άλμπουμ «Dig What Yo
 u Need».
 
LOCATION:Λιοσίων 205\, Αθήνα 104 45\, Ελλάδα
DTSTART:20231111T160000Z
DTEND:20231111T195900Z
DTSTAMP:20231116T105416Z
ORGANIZER:MAILTO:doraq@brainfoodmedia.gr
GEO:38.003601;23.721701
X-APPLE-STRUCTURED-LOCATION;VALUE=URI;X-ADDRESS=Λιοσίων 205\, Αθή
 να 104 45\, Ελλάδα;X-APPLE-RADIUS=72;X-TITLE=Gagarin 205:38.003601
 ;23.721701
END:VEVENT
END:VCALENDAR