BEGIN:VCALENDAR
VERSION:2.0
PRODID:Events Booking
BEGIN:VEVENT
UID:69e557d4c98d4
SUMMARY:The Tiger Lillies
DESCRIPTION:Οι απολαυστικοί και πάντα ευρηματ
 ικοί Tiger Lillies που λατρεύουν και λατρεύοντ
 αι από το ελληνικό κοινό\, επιστρέφουν στ
 ην Αθήνα με το ολόφρεσκο νέο project τους “Le
 ssons in Nihilism”.
LOCATION:Τριβωνιανού 17\, Αθήνα 116 36\, Ελλάδα
DTSTART:20240112T203000Z
DTEND:20240112T215500Z
DTSTAMP:20231227T130046Z
ORGANIZER:MAILTO:doraq@brainfoodmedia.gr
GEO:37.965;23.734699
X-APPLE-STRUCTURED-LOCATION;VALUE=URI;X-ADDRESS=Τριβωνιανού 17\,
  Αθήνα 116 36\, Ελλάδα;X-APPLE-RADIUS=72;X-TITLE=Half Note Jazz
  Club:37.965;23.734699
END:VEVENT
END:VCALENDAR