BEGIN:VCALENDAR
VERSION:2.0
PRODID:Events Booking
BEGIN:VEVENT
UID:69eadc52023b2
SUMMARY:The Swingin' Cats
DESCRIPTION:Οι The Swingin' Cats θα εμφανίζονται τις Τ
 ρίτες του Ιουλίου στην Ταράτσα του Gazarte\, 
 ξεκινώντας από τις 7/7\, για βραδιές με ρετ
 ρό μουσική\, δροσερά ποτά και διάθεση άκρ
 ως καλοκαιρινή!
LOCATION:Βουτάδων 32\, Αθήνα 118 54\, Ελλάδα
DTSTART:20200714T153000Z
DTEND:20200714T175900Z
DTSTAMP:20231116T105416Z
ORGANIZER:MAILTO:doraq@brainfoodmedia.gr
GEO:37.978802;23.7124
X-APPLE-STRUCTURED-LOCATION;VALUE=URI;X-ADDRESS=Βουτάδων 32\, Αθ
 ήνα 118 54\, Ελλάδα;X-APPLE-RADIUS=72;X-TITLE=Gazarte - Roof Stag
 e:37.978802;23.7124
END:VEVENT
END:VCALENDAR