BEGIN:VCALENDAR
VERSION:2.0
PRODID:Events Booking
BEGIN:VEVENT
UID:69ead5db9806b
SUMMARY:The Black Oak Ensemble
DESCRIPTION:Το τρίο των Black Oak Ensemble (Σικάγο\, ΗΠΑ)
  έρχεται στο ΚΕΤ για μια συναυλία την Πέμ
 πτη 12 Δεκεμβρίου.
LOCATION:Κύπρου 91Α και Σικίνου 35\, Αθήνα 113 61\, 
 Ελλάδα
DTSTART:20191212T160000Z
DTEND:20191212T190000Z
DTSTAMP:20231116T105416Z
ORGANIZER:MAILTO:doraq@brainfoodmedia.gr
GEO:38.0037;23.738701
X-APPLE-STRUCTURED-LOCATION;VALUE=URI;X-ADDRESS=Κύπρου 91Α και Σ
 ικίνου 35\, Αθήνα 113 61\, Ελλάδα;X-APPLE-RADIUS=72;X-TIT
 LE=Κέντρο Ελέγχου Τηλεοράσεων:38.0037;23.738701
END:VEVENT
END:VCALENDAR