BEGIN:VCALENDAR
VERSION:2.0
PRODID:Events Booking
BEGIN:VEVENT
UID:69e919b8ed750
SUMMARY:Soma
DESCRIPTION:Οι Soma\, το νέο Αθηναϊκό συγκρότημα 
 του Ξάνθου Παπανικολάου γνωστού από του
 ς Bazooka\, θα παρουσιάσουν την πρώτη τους δι
 σκογραφική δουλειά με τίτλο “ Στη χώρα τ
 ου φωτός”.
 
LOCATION:28ης Οκτωβρίου και Κοδριγκτώνος\, Αθή
 να 104 34\, Ελλάδα
DTSTART:20260424T190000Z
DTEND:20260423T210000Z
DTSTAMP:20260422T113052Z
ORGANIZER:MAILTO:doraq@brainfoodmedia.gr
GEO:37.995602;23.732201
X-APPLE-STRUCTURED-LOCATION;VALUE=URI;X-ADDRESS=28ης Οκτωβρίου 
 και Κοδριγκτώνος\, Αθήνα 104 34\, Ελλάδα;X-APPLE
 -RADIUS=72;X-TITLE=Ίλιον Plus:37.995602;23.732201
END:VEVENT
END:VCALENDAR