BEGIN:VCALENDAR
VERSION:2.0
PRODID:Events Booking
BEGIN:VEVENT
UID:69ece229eec0d
SUMMARY:Snarky Puppy - ΑΝΑΒΑΛΛΕΤΑΙ
DESCRIPTION:Το Gazarte\, λαμβάνοντας υπόψη τις ραγ
 δαίες εξελίξεις που αφορoύν στη μεταδοση
  του κορωνοϊού στην Ελλάδα και σεβόμενο 
 την προστασία της υγείας των θεατών\, των
  καλλιτεχνών και του προσωπικού του\, απο
 φάσισε να προχωρήσει σε αναβολή των προγ
 ραμματισμένων συναυλιών.
LOCATION:Βουτάδων 32\, Αθήνα 118 54\, Ελλάδα
DTSTART:20200407T153000Z
DTEND:20200407T170000Z
DTSTAMP:20231116T105416Z
ORGANIZER:MAILTO:doraq@brainfoodmedia.gr
GEO:37.978802;23.7124
X-APPLE-STRUCTURED-LOCATION;VALUE=URI;X-ADDRESS=Βουτάδων 32\, Αθ
 ήνα 118 54\, Ελλάδα;X-APPLE-RADIUS=72;X-TITLE=Gazarte - Main Stag
 e:37.978802;23.7124
END:VEVENT
END:VCALENDAR