BEGIN:VCALENDAR
VERSION:2.0
PRODID:Events Booking
BEGIN:VEVENT
UID:69ea31b464e13
SUMMARY:Sacred Reich\, Acid Reign\, The Troops Of Doom
DESCRIPTION:Tο Gagarin 205 Live Music Space θα υποδεχθεί μια
  τριπλή και χορταστική δόση αυθεντικού th
 rash metal.
 
LOCATION:Λιοσίων 205\, Αθήνα 104 45\, Ελλάδα
DTSTART:20260830T160000Z
DTEND:20260829T210000Z
DTSTAMP:20260423T072215Z
ORGANIZER:MAILTO:doraq@brainfoodmedia.gr
GEO:38.003601;23.721701
X-APPLE-STRUCTURED-LOCATION;VALUE=URI;X-ADDRESS=Λιοσίων 205\, Αθή
 να 104 45\, Ελλάδα;X-APPLE-RADIUS=72;X-TITLE=Gagarin 205:38.003601
 ;23.721701
END:VEVENT
END:VCALENDAR