BEGIN:VCALENDAR
VERSION:2.0
PRODID:Events Booking
BEGIN:VEVENT
UID:69ea17407084c
SUMMARY:Rock n Roll United: Alex K & Friends\, Stournari Street Band\, Κύ
 ριος Κ\, Coyote's Arrow
DESCRIPTION:Το Rock &amp\; Roll United είναι μια μουσική 
 συνάντηση\, μία ένωση και μία υπενθύμιση 
 πως αυτή η σκηνή παραμένει\, πάνω από όλα\
 , μία παρέα που βρίσκει λόγο να συναντιέτ
 αι κάτω από τα ίδια φώτα.&nbsp\;
 
LOCATION:Ηπείρου 48\, Αθήνα 104 39\, Ελλάδα
DTSTART:20260505T210000Z
DTEND:20260505T210000Z
DTSTAMP:20260423T041433Z
ORGANIZER:MAILTO:doraq@brainfoodmedia.gr
GEO:37.9907;23.726299
X-APPLE-STRUCTURED-LOCATION;VALUE=URI;X-ADDRESS=Ηπείρου 48\, Αθή
 να 104 39\, Ελλάδα;X-APPLE-RADIUS=72;X-TITLE=Κύτταρο Live:3
 7.9907;23.726299
END:VEVENT
END:VCALENDAR