BEGIN:VCALENDAR
VERSION:2.0
PRODID:Events Booking
BEGIN:VEVENT
UID:69e6e9291840d
SUMMARY:Rock In Dio Vol. 14
DESCRIPTION:Το δέκατο τέταρτο&nbsp\;ROCK IN DIO\, το φε
 στιβάλ αλληλεγγύης προς τιμήν του μεγαλ
 ύτερου τραγουδιστή της Heavy Metal RONNIE JAMES DIO\, 
 είναι γεγονός!
 
LOCATION:Ηπείρου 48\, Αθήνα 104 39\, Ελλάδα
DTSTART:20260516T180000Z
DTEND:20260515T210000Z
DTSTAMP:20260306T131243Z
ORGANIZER:MAILTO:doraq@brainfoodmedia.gr
GEO:37.9907;23.726299
X-APPLE-STRUCTURED-LOCATION;VALUE=URI;X-ADDRESS=Ηπείρου 48\, Αθή
 να 104 39\, Ελλάδα;X-APPLE-RADIUS=72;X-TITLE=Κύτταρο Live:3
 7.9907;23.726299
END:VEVENT
END:VCALENDAR