BEGIN:VCALENDAR
VERSION:2.0
PRODID:Events Booking
BEGIN:VEVENT
UID:69ecab4146651
SUMMARY:Παύλος Παυλίδης
DESCRIPTION:Ο Παύλος Παυλίδης δίνει ξανά ραντε
 βού με το συναυλιακό κοινό στην Αθήνα κα
 ι ανεβαίνει στο τέλος του καλοκαιριού στ
 ο Δημοτικό Θέατρο Λυκαβηττού.
LOCATION:Λόφος Λυκαβηττού\, Αθήνα\, Ελλάδα
DTSTART:20240923T190000Z
DTEND:20240923T205500Z
DTSTAMP:20240627T085521Z
ORGANIZER:MAILTO:doraq@brainfoodmedia.gr
GEO:37.9828;23.746
X-APPLE-STRUCTURED-LOCATION;VALUE=URI;X-ADDRESS=Λόφος Λυκαβηττ
 ού\, Αθήνα\, Ελλάδα;X-APPLE-RADIUS=72;X-TITLE=Θέατρο Λ
 υκαβηττού:37.9828;23.746
END:VEVENT
END:VCALENDAR