BEGIN:VCALENDAR
VERSION:2.0
PRODID:Events Booking
BEGIN:VEVENT
UID:69e88e6522e9d
SUMMARY:Patti Smith Quartet
DESCRIPTION:Η Αθήνα υποδέχεται την Patti Smith την ά
 νοιξη του 2026\, πενήντα - ένα χρόνια μετά τ
 ο Horses.
LOCATION:Λόφος Λυκαβηττού\, Αθήνα\, Ελλάδα
DTSTART:20260515T180000Z
DTEND:20260514T210000Z
DTSTAMP:20251204T144213Z
ORGANIZER:MAILTO:doraq@brainfoodmedia.gr
GEO:37.9828;23.746
X-APPLE-STRUCTURED-LOCATION;VALUE=URI;X-ADDRESS=Λόφος Λυκαβηττ
 ού\, Αθήνα\, Ελλάδα;X-APPLE-RADIUS=72;X-TITLE=Θέατρο Λ
 υκαβηττού:37.9828;23.746
END:VEVENT
END:VCALENDAR