BEGIN:VCALENDAR
VERSION:2.0
PRODID:Events Booking
BEGIN:VEVENT
UID:69e73a01dd705
SUMMARY:PAPAZO + Guests
DESCRIPTION:Τo Jameson Irish Whiskey επιστρέφει με τα JAMESO
 N CONNECTS music sessions και υπερήφανα παρουσιάζει
  τον PAPAZO μαζί με τους εκλεκτούς καλεσμέν
 ους του στην παράσταση “Αν-ισορροπία”.
LOCATION:Λιοσίων 205\, Αθήνα 104 45\, Ελλάδα
DTSTART:20260321T190000Z
DTEND:20260320T220000Z
DTSTAMP:20260109T074745Z
ORGANIZER:MAILTO:doraq@brainfoodmedia.gr
GEO:38.003601;23.721701
X-APPLE-STRUCTURED-LOCATION;VALUE=URI;X-ADDRESS=Λιοσίων 205\, Αθή
 να 104 45\, Ελλάδα;X-APPLE-RADIUS=72;X-TITLE=Gagarin 205:38.003601
 ;23.721701
END:VEVENT
END:VCALENDAR