BEGIN:VCALENDAR
VERSION:2.0
PRODID:Events Booking
BEGIN:VEVENT
UID:69e74bb7ea529
SUMMARY:Oath
DESCRIPTION:Fuzz και όλεθρος στο υπόγειο της Σολ
 ωμού 13!
 
LOCATION:Σολωμού 13\, Αθήνα 106 82\, Ελλάδα
DTSTART:20260508T180000Z
DTEND:20260507T210000Z
DTSTAMP:20260421T034815Z
ORGANIZER:MAILTO:doraq@brainfoodmedia.gr
GEO:37.9865;23.7332
X-APPLE-STRUCTURED-LOCATION;VALUE=URI;X-ADDRESS=Σολωμού 13\, Αθή
 να 106 82\, Ελλάδα;X-APPLE-RADIUS=72;X-TITLE=An Club:37.9865;23.73
 32
END:VEVENT
END:VCALENDAR