BEGIN:VCALENDAR
VERSION:2.0
PRODID:Events Booking
BEGIN:VEVENT
UID:69e7539101104
SUMMARY:Neon Chambers - Sigha & Kangding Ray
DESCRIPTION:Οι Neon Chambers\, το περίφημο οπτικοακου
 στικό πρότζεκτ των Sigha και Kangding Ray στο Ζάπ
 πειο Μέγαρο και τα St Paul`s Sessions 4.
LOCATION:Λεωφ. Βασιλίσσης Όλγας\, Αθήνα 105 57\, Ε
 λλάδα
DTSTART:20191121T160000Z
DTEND:20191121T190000Z
DTSTAMP:20231116T105416Z
ORGANIZER:MAILTO:doraq@brainfoodmedia.gr
GEO:37.969898;23.7356
X-APPLE-STRUCTURED-LOCATION;VALUE=URI;X-ADDRESS=Λεωφ. Βασιλίσσ
 ης Όλγας\, Αθήνα 105 57\, Ελλάδα;X-APPLE-RADIUS=72;X-TIT
 LE=Ζάππειον Μέγαρον:37.969898;23.7356
END:VEVENT
END:VCALENDAR