BEGIN:VCALENDAR
VERSION:2.0
PRODID:Events Booking
BEGIN:VEVENT
UID:69e91f9464f6e
SUMMARY:Nemesis
DESCRIPTION:Οι θρυλικοί Nemesis\, το ιστορικό συγκ
 ρότημα με σημαντική δράση και επιρροή στ
 ις δεκαετίες 70 &amp\; 80\, επανασυνδέονται 40 
 χρόνια μετά για μια σειρά εμφανίσεων!
 
LOCATION:Ηπείρου 48\, Αθήνα 104 39\, Ελλάδα
DTSTART:20260523T190000Z
DTEND:20260522T210000Z
DTSTAMP:20260422T105707Z
ORGANIZER:MAILTO:doraq@brainfoodmedia.gr
GEO:37.9907;23.726299
X-APPLE-STRUCTURED-LOCATION;VALUE=URI;X-ADDRESS=Ηπείρου 48\, Αθή
 να 104 39\, Ελλάδα;X-APPLE-RADIUS=72;X-TITLE=Κύτταρο Live:3
 7.9907;23.726299
END:VEVENT
END:VCALENDAR