BEGIN:VCALENDAR
VERSION:2.0
PRODID:Events Booking
BEGIN:VEVENT
UID:69e9b8ae3bca4
SUMMARY:Νατάσσα Μποφίλιου
DESCRIPTION:Μια Νέα Παράσταση. Μια Νέα Εποχή.
LOCATION:Λόφος Λυκαβηττού\, Αθήνα\, Ελλάδα
DTSTART:20240917T180000Z
DTEND:20240917T205500Z
DTSTAMP:20240619T101252Z
ORGANIZER:MAILTO:doraq@brainfoodmedia.gr
GEO:37.9828;23.746
X-APPLE-STRUCTURED-LOCATION;VALUE=URI;X-ADDRESS=Λόφος Λυκαβηττ
 ού\, Αθήνα\, Ελλάδα;X-APPLE-RADIUS=72;X-TITLE=Θέατρο Λ
 υκαβηττού:37.9828;23.746
END:VEVENT
END:VCALENDAR