BEGIN:VCALENDAR
VERSION:2.0
PRODID:Events Booking
BEGIN:VEVENT
UID:69ea3e841b0b3
SUMMARY:Μυρτώ Βασιλείου
DESCRIPTION:Η Μυρτώ Βασιλείου\, η πιο ξεχωριστή
  φωνή της νέας γενιάς ερμηνευτών\, επιστρ
 έφει για την τελευταία ζωντανή εμφάνιση 
 του Δεκεμβρίου στη σκηνή του Faust.
LOCATION:Αθηναΐδος και Καλαμιωτού\, Αθήνα 105 63
 \, Ελλάδα
DTSTART:20231222T193000Z
DTEND:20231222T215500Z
DTSTAMP:20231216T155540Z
ORGANIZER:MAILTO:doraq@brainfoodmedia.gr
GEO:37.976799;23.729
X-APPLE-STRUCTURED-LOCATION;VALUE=URI;X-ADDRESS=Αθηναΐδος και 
 Καλαμιωτού\, Αθήνα 105 63\, Ελλάδα;X-APPLE-RADIUS=72;
 X-TITLE=Faust Bar Theater Arts:37.976799;23.729
END:VEVENT
END:VCALENDAR