BEGIN:VCALENDAR
VERSION:2.0
PRODID:Events Booking
BEGIN:VEVENT
UID:69e74f7dd2eab
SUMMARY:Μυρτώ Βασιλείου
DESCRIPTION:Η Μυρτώ Βασιλείου και η μπάντα της\
 , πιο δημιουργικοί από ποτέ\, επιστρέφουν
  στο Club του Σταυρού του Νότου!
 
LOCATION:Θαρύπου 35\, Αθήνα 117 43\, Ελλάδα
DTSTART:20260422T180000Z
DTEND:20260421T210000Z
DTSTAMP:20260421T035623Z
ORGANIZER:MAILTO:doraq@brainfoodmedia.gr
GEO:37.961899;23.726
X-APPLE-STRUCTURED-LOCATION;VALUE=URI;X-ADDRESS=Θαρύπου 35\, Αθή
 να 117 43\, Ελλάδα;X-APPLE-RADIUS=72;X-TITLE=Σταυρός Του
  Νότου / Club:37.961899;23.726
END:VEVENT
END:VCALENDAR