BEGIN:VCALENDAR
VERSION:2.0
PRODID:Events Booking
BEGIN:VEVENT
UID:69e73ab5ea178
SUMMARY:Μιχάλης & Παντελής Καλογεράκης
DESCRIPTION:Τα Καλογεράκια επιστρέφουν επειδή
  δεν είπαν ακόμα όσα έπρεπε.
 
LOCATION:Αμβροσίου Φραντζή και Θαρύπου\, Αθήν
 α 117 43\, Ελλάδα
DTSTART:20260319T193000Z
DTEND:20260318T220000Z
DTSTAMP:20260216T164257Z
ORGANIZER:MAILTO:doraq@brainfoodmedia.gr
GEO:37.9618;23.725901
X-APPLE-STRUCTURED-LOCATION;VALUE=URI;X-ADDRESS=Αμβροσίου Φραν
 τζή και Θαρύπου\, Αθήνα 117 43\, Ελλάδα;X-APPLE-RA
 DIUS=72;X-TITLE=Σταυρός Του Νότου (Plus):37.9618;23.725901
END:VEVENT
END:VCALENDAR