BEGIN:VCALENDAR
VERSION:2.0
PRODID:Events Booking
BEGIN:VEVENT
UID:69e902b45cf51
SUMMARY:Mind The Heels
DESCRIPTION:Με ένα αφιέρωμα στην χορωδιακή a capp
 ella μουσική του 20ου και 21ου αιώνα\, θα μας 
 υποδεχτούν οι Mind the heels στην συναυλία του
 ς στην αίθουσα του Αγγλικανικού Ναού Αγί
 ου Παύλου.
LOCATION:Φιλελλήνων 27\, Αθήνα 105 57\, Ελλάδα
DTSTART:20250208T183000Z
DTEND:20250208T215500Z
DTSTAMP:20250207T152939Z
ORGANIZER:MAILTO:doraq@brainfoodmedia.gr
GEO:37.972401;23.733601
X-APPLE-STRUCTURED-LOCATION;VALUE=URI;X-ADDRESS=Φιλελλήνων 27\, 
 Αθήνα 105 57\, Ελλάδα;X-APPLE-RADIUS=72;X-TITLE=Αγγλικα
 νική Εκκλησία Αγ. Παύλου:37.972401;23.733601
END:VEVENT
END:VCALENDAR