BEGIN:VCALENDAR
VERSION:2.0
PRODID:Events Booking
BEGIN:VEVENT
UID:69ea16eec1f2f
SUMMARY:Martin Küchen\, Alex Zethson & Nikos Veliotis
DESCRIPTION:Με προσωπικές διαδρομές που εκτεί
 νονται από την τζαζ μέχρι τον πειραματισ
 μό και την ηχητική τέχνη\, o Martin Küchen\, o Alex Z
 ethson και ο Νίκος Βελιώτης αποτελούν τρεις
  ξεχωριστές φωνές της ευρωπαϊκής αυτοσχ
 εδιαστικής σκηνής.
 
LOCATION:Κύπρου 91Α και Σικίνου 35\, Αθήνα 113 61\, 
 Ελλάδα
DTSTART:20260430T180000Z
DTEND:20260429T210000Z
DTSTAMP:20260423T065839Z
ORGANIZER:MAILTO:doraq@brainfoodmedia.gr
GEO:38.0037;23.738701
X-APPLE-STRUCTURED-LOCATION;VALUE=URI;X-ADDRESS=Κύπρου 91Α και Σ
 ικίνου 35\, Αθήνα 113 61\, Ελλάδα;X-APPLE-RADIUS=72;X-TIT
 LE=Κέντρο Ελέγχου Τηλεοράσεων:38.0037;23.738701
END:VEVENT
END:VCALENDAR