BEGIN:VCALENDAR
VERSION:2.0
PRODID:Events Booking
BEGIN:VEVENT
UID:69ea01bc9592b
SUMMARY:Μαριάνα Κατσιμίχα\, Στέφανος Αθανασί
 ου & Λάμπρος Βασιλείου
DESCRIPTION:Μαριάνα\, Στέφανος και Λάμπρος. Τρε
 ις νέες φωνές πολλά υποσχόμενες για μία 
 και μοναδική βραδιά στο Σταυρό του Νότου
  Club.
 
LOCATION:Θαρύπου 35\, Αθήνα 117 43\, Ελλάδα
DTSTART:20260428T183000Z
DTEND:20260427T210000Z
DTSTAMP:20260423T045229Z
ORGANIZER:MAILTO:doraq@brainfoodmedia.gr
GEO:37.961899;23.726
X-APPLE-STRUCTURED-LOCATION;VALUE=URI;X-ADDRESS=Θαρύπου 35\, Αθή
 να 117 43\, Ελλάδα;X-APPLE-RADIUS=72;X-TITLE=Σταυρός Του
  Νότου / Club:37.961899;23.726
END:VEVENT
END:VCALENDAR