BEGIN:VCALENDAR
VERSION:2.0
PRODID:Events Booking
BEGIN:VEVENT
UID:69ea016d57230
SUMMARY:Μαρία Βακάλη
DESCRIPTION:Οι νοσταλγικές μελωδίες του Ξενοφ
 ώντα και οι μελαγχολικοί στίχοι του Μιχά
 λη αγκάλιασαν τη ζεστή φωνή της Μαρίας Β
 ακάλη στην πρώτη και πολυαναμενόμενη ολ
 οκληρωμένη δισκογραφική της δουλειά.
 
LOCATION:28ης Οκτωβρίου και Κοδριγκτώνος\, Αθή
 να 104 34\, Ελλάδα
DTSTART:20260429T180000Z
DTEND:20260428T210000Z
DTSTAMP:20260423T042931Z
ORGANIZER:MAILTO:doraq@brainfoodmedia.gr
GEO:37.995602;23.732201
X-APPLE-STRUCTURED-LOCATION;VALUE=URI;X-ADDRESS=28ης Οκτωβρίου 
 και Κοδριγκτώνος\, Αθήνα 104 34\, Ελλάδα;X-APPLE
 -RADIUS=72;X-TITLE=Ίλιον Plus:37.995602;23.732201
END:VEVENT
END:VCALENDAR