BEGIN:VCALENDAR
VERSION:2.0
PRODID:Events Booking
BEGIN:VEVENT
UID:69e9fb2e9c9ab
SUMMARY:Μανώλης Μητσιάς
DESCRIPTION:Όλες οι τεράστιες επιτυχίες που μα
 ς πρωτοτραγούδησε με ευγένεια και σπάνι
 ο ήθος από το 1969 μέχρι το 2019 ο κορυφαίος μ
 ας Μανώλης Μητσιάς παρουσιάζονται κάθε 
 Παρασκευή στο Άλσος που γεμίζει ασφυκτι
 κά. 
LOCATION:Ευελπίδων 4\, Αθήνα 114 74\, Ελλάδα
DTSTART:20200131T170000Z
DTEND:20200131T190000Z
DTSTAMP:20231116T105416Z
ORGANIZER:MAILTO:doraq@brainfoodmedia.gr
GEO:37.995399;23.7383
X-APPLE-STRUCTURED-LOCATION;VALUE=URI;X-ADDRESS=Ευελπίδων 4\, Αθ
 ήνα 114 74\, Ελλάδα;X-APPLE-RADIUS=72;X-TITLE=Θέατρο Άλσ
 ος ΔΕΗ:37.995399;23.7383
END:VEVENT
END:VCALENDAR