BEGIN:VCALENDAR
VERSION:2.0
PRODID:Events Booking
BEGIN:VEVENT
UID:69ea9ea85a7c7
SUMMARY:Lunatics
DESCRIPTION:Η κορυφαία Pink Floyd Tribute band στην Ελλάδ
 α έρχεται&nbsp\;στο Κύτταρο\, για να κάνουν 
 αυτό που ξέρουν να κάνουν καλά.
 
LOCATION:Ηπείρου 48\, Αθήνα 104 39\, Ελλάδα
DTSTART:20260502T190000Z
DTEND:20260501T210000Z
DTSTAMP:20260309T124021Z
ORGANIZER:MAILTO:doraq@brainfoodmedia.gr
GEO:37.9907;23.726299
X-APPLE-STRUCTURED-LOCATION;VALUE=URI;X-ADDRESS=Ηπείρου 48\, Αθή
 να 104 39\, Ελλάδα;X-APPLE-RADIUS=72;X-TITLE=Κύτταρο Live:3
 7.9907;23.726299
END:VEVENT
END:VCALENDAR