BEGIN:VCALENDAR
VERSION:2.0
PRODID:Events Booking
BEGIN:VEVENT
UID:69ec2074c6f85
SUMMARY:John Legend 
DESCRIPTION:Με την προσθήκη της συναυλίας του J
 ohn Legend στις 30 Ιουνίου\, ολοκληρώνεται το φ
 ετινό καλλιτεχνικό πρόγραμμα του Ωδείου
  Ηρώδου Αττικού.&nbsp\;
 
LOCATION:Διονυσίου Αρεοπαγίτου\, Αθήνα 105 58\, Ε
 λλάδα
DTSTART:20260630T190000Z
DTEND:20260629T210000Z
DTSTAMP:20260424T112924Z
ORGANIZER:MAILTO:doraq@brainfoodmedia.gr
GEO:37.969601;23.7269
X-APPLE-STRUCTURED-LOCATION;VALUE=URI;X-ADDRESS=Διονυσίου Αρεο
 παγίτου\, Αθήνα 105 58\, Ελλάδα;X-APPLE-RADIUS=72;X-TITL
 E=Ωδείο Ηρώδου Αττικού:37.969601;23.7269
END:VEVENT
END:VCALENDAR