BEGIN:VCALENDAR
VERSION:2.0
PRODID:Events Booking
BEGIN:VEVENT
UID:69e9ca268eca9
SUMMARY:Jef Maarawi (Full Band) & Jack Heart and The Love Ghosts
DESCRIPTION:Δύο από τους πιο ενδιαφέροντες singer
 -songwriters της αθηναϊκής σκηνής ενώνουν τις 
 δυνάμεις τους\, σε μια πολύ ενδιαφέρουσα 
 βραδιά.
 
LOCATION:Λεωφ. Ανδρέα Συγγρού 364\, Καλλιθέα 176 7
 4\, Ελλάδα
DTSTART:20220708T150000Z
DTEND:20220708T175900Z
DTSTAMP:20231116T105416Z
ORGANIZER:MAILTO:doraq@brainfoodmedia.gr
GEO:37.941502;23.696899
X-APPLE-STRUCTURED-LOCATION;VALUE=URI;X-ADDRESS=Λεωφ. Ανδρέα Συ
 γγρού 364\, Καλλιθέα 176 74\, Ελλάδα;X-APPLE-RADIUS=72;
 X-TITLE=Κέντρο Πολιτισμού Ίδρυμα Σταύρος Νι
 άρχος:37.941502;23.696899
END:VEVENT
END:VCALENDAR