BEGIN:VCALENDAR
VERSION:2.0
PRODID:Events Booking
BEGIN:VEVENT
UID:69ec06fcb5ace
SUMMARY:Jef Maarawi & Danai Nielsen
DESCRIPTION:Ο 2ος κύκλος των UPSTAIRS SESSIONS συνεχίζε
 ται με τον Jef Maarawi και τη Danai Nielsen να μοιράζ
 ονται τη σκηνή στις 29 Σεπτεμβρίου στην α
 γαπημένη ταράτσα του Gazarte.
 
LOCATION:Βουτάδων 32\, Αθήνα 118 54\, Ελλάδα
DTSTART:20210929T150000Z
DTEND:20210929T175900Z
DTSTAMP:20231116T105416Z
ORGANIZER:MAILTO:doraq@brainfoodmedia.gr
GEO:37.978802;23.7124
X-APPLE-STRUCTURED-LOCATION;VALUE=URI;X-ADDRESS=Βουτάδων 32\, Αθ
 ήνα 118 54\, Ελλάδα;X-APPLE-RADIUS=72;X-TITLE=Gazarte - Roof Stag
 e:37.978802;23.7124
END:VEVENT
END:VCALENDAR