BEGIN:VCALENDAR
VERSION:2.0
PRODID:Events Booking
BEGIN:VEVENT
UID:69e5e365dc7ae
SUMMARY:Jazz Sabbath
DESCRIPTION:Η jazz συναντά το θρυλικό heavy metal με έ
 ναν ανατρεπτικό τρόπο που δεν έχετε ξανα
 ζήσει!
LOCATION:Βουτάδων 32\, Αθήνα 118 54\, Ελλάδα
DTSTART:20250314T190000Z
DTEND:20250314T215500Z
DTSTAMP:20250313T153610Z
ORGANIZER:MAILTO:doraq@brainfoodmedia.gr
GEO:37.978802;23.7124
X-APPLE-STRUCTURED-LOCATION;VALUE=URI;X-ADDRESS=Βουτάδων 32\, Αθ
 ήνα 118 54\, Ελλάδα;X-APPLE-RADIUS=72;X-TITLE=Gazarte - Main Stag
 e:37.978802;23.7124
END:VEVENT
END:VCALENDAR