BEGIN:VCALENDAR
VERSION:2.0
PRODID:Events Booking
BEGIN:VEVENT
UID:69eb75350bfa2
SUMMARY:God Is An Astronaut
DESCRIPTION:Οι God Is An Astronaut θα βρεθούν στην Αθήν
 α για μια best-of συναυλία εμφάνιση\, στα πλα
 ίσια της \"20th Anniversary Tour\" τους.
 
LOCATION:Λιοσίων 205\, Αθήνα 104 45\, Ελλάδα
DTSTART:20230929T150000Z
DTEND:20230929T175900Z
DTSTAMP:20231116T105416Z
ORGANIZER:MAILTO:doraq@brainfoodmedia.gr
GEO:38.003601;23.721701
X-APPLE-STRUCTURED-LOCATION;VALUE=URI;X-ADDRESS=Λιοσίων 205\, Αθή
 να 104 45\, Ελλάδα;X-APPLE-RADIUS=72;X-TITLE=Gagarin 205:38.003601
 ;23.721701
END:VEVENT
END:VCALENDAR