BEGIN:VCALENDAR
VERSION:2.0
PRODID:Events Booking
BEGIN:VEVENT
UID:69e5574f2a30f
SUMMARY:Γιώτα Νέγκα
DESCRIPTION:Η Γιώτα Νέγκα έρχεται στο Θέατρο Ά
 λσος κάθε Παρασκευή από 5 Ιανουαρίου σε μ
 ια παράσταση-κατάθεση ψυχής\, μέσα από τρ
 αγούδια τόσο της προσωπικής της δισκογρ
 αφίας όσο και κορυφαίων ερμηνευτών και δ
 ημιουργών.
LOCATION:Ευελπίδων 4\, Αθήνα 114 74
DTSTART:20240112T190000Z
DTEND:20240112T215500Z
DTSTAMP:20231227T165004Z
ORGANIZER:MAILTO:doraq@brainfoodmedia.gr
END:VEVENT
END:VCALENDAR