BEGIN:VCALENDAR
VERSION:2.0
PRODID:Events Booking
BEGIN:VEVENT
UID:69ece940c35eb
SUMMARY:Γιώργος Σαμπάνης
DESCRIPTION:Ο Γιώργος Σαμπάνης ετοιμάζει ένα α
 ξέχαστο συναυλιακό καλοκαίρι και έρχετα
 ι στο Θέατρο Άλσος για μια μοναδική εμφά
 νιση\, δίνοντας το σύνθημα για το πιο μου
 σικό συναίσθημα…«Νιώσε Ό\,τι Νιώθω»!
LOCATION:Ευελπίδων 4\, Αθήνα 114 74\, Ελλάδα
DTSTART:20250630T173000Z
DTEND:20250629T210000Z
DTSTAMP:20250617T104834Z
ORGANIZER:MAILTO:doraq@brainfoodmedia.gr
GEO:37.995399;23.7383
X-APPLE-STRUCTURED-LOCATION;VALUE=URI;X-ADDRESS=Ευελπίδων 4\, Αθ
 ήνα 114 74\, Ελλάδα;X-APPLE-RADIUS=72;X-TITLE=Θέατρο Άλσ
 ος ΔΕΗ:37.995399;23.7383
END:VEVENT
END:VCALENDAR