BEGIN:VCALENDAR
VERSION:2.0
PRODID:Events Booking
BEGIN:VEVENT
UID:69ecada62297f
SUMMARY:Γιώργος Νταλάρας & Μίλτος Πασχαλίδης
DESCRIPTION:Ο Γιώργος Νταλάρας έρχεται με «Ωρα
 ία Παρέα» στο Christmas Theater.
 
LOCATION:Λεωφόρος Βεϊκου 137\, Αθήνα 111 46
DTSTART:20211210T170000Z
DTEND:20211210T195900Z
DTSTAMP:20231116T105416Z
ORGANIZER:MAILTO:doraq@brainfoodmedia.gr
END:VEVENT
END:VCALENDAR