BEGIN:VCALENDAR
VERSION:2.0
PRODID:Events Booking
BEGIN:VEVENT
UID:69ea741233fcc
SUMMARY:Γιαγκίνηδες
DESCRIPTION:Οι Γιαγκίνηδες επιστρέφουν στην Α
 θήνα για τη μεγαλύτερη συναυλία τους - μέ
 χρι στιγμής.
 
LOCATION:Pireos 100\, Athina 118 54
DTSTART:20260707T180000Z
DTEND:20260706T210000Z
DTSTAMP:20260423T100702Z
ORGANIZER:MAILTO:doraq@brainfoodmedia.gr
GEO:37.978446;23.713615
X-APPLE-STRUCTURED-LOCATION;VALUE=URI;X-ADDRESS=Pireos 100\, Athina 118 54;
 X-APPLE-RADIUS=72;X-TITLE=Τεχνόπολη Δήμου Αθηναίων:3
 7.978446;23.713615
END:VEVENT
END:VCALENDAR