BEGIN:VCALENDAR
VERSION:2.0
PRODID:Events Booking
BEGIN:VEVENT
UID:69e919b0a6f3f
SUMMARY:Foreigner
DESCRIPTION:Οι θρύλοι του classic rock έρχονται για 
 πρώτη φορά στην Ελλάδα!
 
LOCATION:Λεωφόρος Κηφισίας 37\, Μαρούσι 151 23
DTSTART:20260627T190000Z
DTEND:20260626T210000Z
DTSTAMP:20260422T104530Z
ORGANIZER:MAILTO:doraq@brainfoodmedia.gr
END:VEVENT
END:VCALENDAR