BEGIN:VCALENDAR
VERSION:2.0
PRODID:Events Booking
BEGIN:VEVENT
UID:69ed0ac52d118
SUMMARY:Eyvind Kang & Jessika Kenney
DESCRIPTION:Το ντουέτο των Eyvind Kang και Jessika Kenney α
 πό τις Ηνωμένες Πολιτείες\, έρχεται στο Κ
 ΕΤ για μία μοναδική συναυλία τη Δευτέρα 1
 6 Δεκεμβρίου.
LOCATION:Κύπρου 91Α και Σικίνου 35\, Αθήνα 113 61\, 
 Ελλάδα
DTSTART:20191216T160000Z
DTEND:20191216T190000Z
DTSTAMP:20231116T105416Z
ORGANIZER:MAILTO:doraq@brainfoodmedia.gr
GEO:38.0037;23.738701
X-APPLE-STRUCTURED-LOCATION;VALUE=URI;X-ADDRESS=Κύπρου 91Α και Σ
 ικίνου 35\, Αθήνα 113 61\, Ελλάδα;X-APPLE-RADIUS=72;X-TIT
 LE=Κέντρο Ελέγχου Τηλεοράσεων:38.0037;23.738701
END:VEVENT
END:VCALENDAR