BEGIN:VCALENDAR
VERSION:2.0
PRODID:Events Booking
BEGIN:VEVENT
UID:69e7489abfe15
SUMMARY:Ευανθία Ρεμπούτσικα & Άρης Δαβαράκης
DESCRIPTION:Δύο δημιουργοί που μας έχουν χαρίσ
 ει μερικά από τα πιο τρυφερά και διαχρον
 ικά αγαπημένα τραγούδια&nbsp\;παρουσιάζου
 ν τη συναυλία «Τα τραγούδια μας».
 
LOCATION:Βουκουρεστίου 5\, Αθήνα 105 64\, Ελλάδα
DTSTART:20260513T180000Z
DTEND:20260512T210000Z
DTSTAMP:20260421T035050Z
ORGANIZER:MAILTO:doraq@brainfoodmedia.gr
GEO:37.977001;23.7351
X-APPLE-STRUCTURED-LOCATION;VALUE=URI;X-ADDRESS=Βουκουρεστίου 
 5\, Αθήνα 105 64\, Ελλάδα;X-APPLE-RADIUS=72;X-TITLE=Θέατρ
 ο Παλλάς:37.977001;23.7351
END:VEVENT
END:VCALENDAR