BEGIN:VCALENDAR
VERSION:2.0
PRODID:Events Booking
BEGIN:VEVENT
UID:69eceebab0c88
SUMMARY:Ευανθία Ρεμπούτσικα
DESCRIPTION:Η Ευανθία Ρεμπούτσικα\, μία από τις
  πιο αγαπημένες και πολυβραβευμένες συν
 θέτριες της Ελλάδας\, επιστρέφει στη σκη
 νή του Ηρωδείου για μια μοναδική βραδιά.
LOCATION:Διονυσίου Αρεοπαγίτου\, Αθήνα 105 58\, Ε
 λλάδα
DTSTART:20251016T180000Z
DTEND:20251015T210000Z
DTSTAMP:20250924T072354Z
ORGANIZER:MAILTO:doraq@brainfoodmedia.gr
GEO:37.969601;23.7269
X-APPLE-STRUCTURED-LOCATION;VALUE=URI;X-ADDRESS=Διονυσίου Αρεο
 παγίτου\, Αθήνα 105 58\, Ελλάδα;X-APPLE-RADIUS=72;X-TITL
 E=Ωδείο Ηρώδου Αττικού:37.969601;23.7269
END:VEVENT
END:VCALENDAR