BEGIN:VCALENDAR
VERSION:2.0
PRODID:Events Booking
BEGIN:VEVENT
UID:69e739af663cf
SUMMARY:Elixir
DESCRIPTION:Οι Elixir επιστρέφουν στη χώρα μας γι
 α ένα ελληνικό mini tour\, γιορτάζοντας τα 40 χ
 ρόνια του κορυφαίου άλμπουμ “The Son of Odin”.
 
 
LOCATION:Σολωμού 13\, Αθήνα 106 82\, Ελλάδα
DTSTART:20260320T190000Z
DTEND:20260319T220000Z
DTSTAMP:20260227T160046Z
ORGANIZER:MAILTO:doraq@brainfoodmedia.gr
GEO:37.9865;23.7332
X-APPLE-STRUCTURED-LOCATION;VALUE=URI;X-ADDRESS=Σολωμού 13\, Αθή
 να 106 82\, Ελλάδα;X-APPLE-RADIUS=72;X-TITLE=An Club:37.9865;23.73
 32
END:VEVENT
END:VCALENDAR