BEGIN:VCALENDAR
VERSION:2.0
PRODID:Events Booking
BEGIN:VEVENT
UID:69e7e9bc17777
SUMMARY:Einstürzende Neubauten
DESCRIPTION:Ιδιοφυείς. Ριζοσπάστες. Πρωτοπόρο
 ι.&nbsp\;
 
LOCATION:Διονυσίου Αρεοπαγίτου\, Αθήνα 105 58\, Ε
 λλάδα
DTSTART:20260618T180000Z
DTEND:20260617T210000Z
DTSTAMP:20260421T040537Z
ORGANIZER:MAILTO:doraq@brainfoodmedia.gr
GEO:37.969601;23.7269
X-APPLE-STRUCTURED-LOCATION;VALUE=URI;X-ADDRESS=Διονυσίου Αρεο
 παγίτου\, Αθήνα 105 58\, Ελλάδα;X-APPLE-RADIUS=72;X-TITL
 E=Ωδείο Ηρώδου Αττικού:37.969601;23.7269
END:VEVENT
END:VCALENDAR