BEGIN:VCALENDAR
VERSION:2.0
PRODID:Events Booking
BEGIN:VEVENT
UID:69e8bf08e91e4
SUMMARY:Demi Spriggs & friends
DESCRIPTION:H Demi Spriggs παρουσιάζει τραγούδια και
  μελωδίες από τα βρετανικά νησιά και την 
 αμερικανική country-folk\, αναμεμειγμένα με fx 
 και φωνητικές λούπες.
LOCATION:Κύπρου 91Α και Σικίνου 35\, Αθήνα 113 61\, 
 Ελλάδα
DTSTART:20241105T183000Z
DTEND:20241105T215500Z
DTSTAMP:20241030T123915Z
ORGANIZER:MAILTO:doraq@brainfoodmedia.gr
GEO:38.0037;23.738701
X-APPLE-STRUCTURED-LOCATION;VALUE=URI;X-ADDRESS=Κύπρου 91Α και Σ
 ικίνου 35\, Αθήνα 113 61\, Ελλάδα;X-APPLE-RADIUS=72;X-TIT
 LE=Κέντρο Ελέγχου Τηλεοράσεων:38.0037;23.738701
END:VEVENT
END:VCALENDAR