BEGIN:VCALENDAR
VERSION:2.0
PRODID:Events Booking
BEGIN:VEVENT
UID:69e70411827ea
SUMMARY:Bryan Adams
DESCRIPTION:Τρία χρόνια μετά την αξέχαστη συνα
 υλία του επιστρέφει για μία μαγική βραδι
 ά με αυθεντική ροκ λάμψη που δεν πρέπει ν
 α χάσει κανείς!
 
LOCATION:Λεωφόρος Ολυμπιονίκου Σπύρου Λούη 1\
 , Αθήνα 151 23
DTSTART:20261219T190000Z
DTEND:20261218T220000Z
DTSTAMP:20260306T132655Z
ORGANIZER:MAILTO:doraq@brainfoodmedia.gr
GEO:38.0345;23.785
X-APPLE-STRUCTURED-LOCATION;VALUE=URI;X-ADDRESS=Λεωφόρος Ολυμπ
 ιονίκου Σπύρου Λούη 1\, Αθήνα 151 23;X-APPLE-RADIUS=
 72;X-TITLE=Telekom Center Athens (Ο.Α.Κ.Α.):38.0345;23.785
END:VEVENT
END:VCALENDAR