BEGIN:VCALENDAR
VERSION:2.0
PRODID:Events Booking
BEGIN:VEVENT
UID:69ece7159046b
SUMMARY:Blues Cargo feat. Elias Zaikos
DESCRIPTION:Θέλοντας να τιμήσουμε τους πιο σημ
 αντικούς μουσικούς που όλα αυτά τα χρόνι
 α στήριξαν την μουσική που παίζουμε\, ξεκ
 ινάμε μια σειρά εμφανίσεων με πολύ ιδιαί
 τερους καλεσμένους. 
LOCATION:Φωκίωνος Νέγρη 25\, Αθήνα 113 61\, Ελλάδα
DTSTART:20200328T173000Z
DTEND:20200328T190000Z
DTSTAMP:20231116T105416Z
ORGANIZER:MAILTO:doraq@brainfoodmedia.gr
GEO:38.001202;23.736601
X-APPLE-STRUCTURED-LOCATION;VALUE=URI;X-ADDRESS=Φωκίωνος Νέγρη
  25\, Αθήνα 113 61\, Ελλάδα;X-APPLE-RADIUS=72;X-TITLE=Orfeas Ba
 r Cafe Restaurant:38.001202;23.736601
END:VEVENT
END:VCALENDAR